BEGIN:VCALENDAR
VERSION:2.0
PRODID:-//Plone.org//NONSGML plone.app.event//EN
X-WR-TIMEZONE:US/Pacific
BEGIN:VEVENT
SUMMARY:Seattle Climbing Committee Meeting
DTSTART;VALUE=DATE-TIME:20270907T183000
DTEND;VALUE=DATE-TIME:20270907T203000
DTSTAMP;VALUE=DATE-TIME:20260421T164301Z
UID:a504ec2ad96e46ef9e1e4f448f97a49f@localhost:6081
CREATED;VALUE=DATE-TIME:20260115T070838Z
DESCRIPTION:Monthly meeting for Seattle Climbing. Odd months are via Zoom\
 , even are planned for in person at the SPC.
LAST-MODIFIED;VALUE=DATE-TIME:20260218T203748Z
LOCATION:Zoom
URL:https://www.mountaineers.org/locations-lodges/seattle-branch/events/se
 attle-climbing-committee-meeting-6-2027-09-07
END:VEVENT
BEGIN:VTIMEZONE
TZID:America/Los_Angeles
X-LIC-LOCATION:America/Los_Angeles
BEGIN:DAYLIGHT
DTSTART;VALUE=DATE-TIME:20270314T030000
TZNAME:PDT
TZOFFSETFROM:-0800
TZOFFSETTO:-0700
END:DAYLIGHT
END:VTIMEZONE
END:VCALENDAR
