BEGIN:VCALENDAR
VERSION:2.0
PRODID:-//Plone.org//NONSGML plone.app.event//EN
X-WR-TIMEZONE:US/Pacific
BEGIN:VEVENT
SUMMARY:Seattle Climbing Committee Meeting
DTSTART;VALUE=DATE-TIME:20270302T183000
DTEND;VALUE=DATE-TIME:20270302T203000
DTSTAMP;VALUE=DATE-TIME:20260421T182108Z
UID:087ff6dc390c4444a441c085c9d5416e@localhost:6081
CREATED;VALUE=DATE-TIME:20260115T070810Z
DESCRIPTION:Monthly meeting for Seattle Climbing. Odd months are via Zoom\
 , even are planned for in person at the SPC.
LAST-MODIFIED;VALUE=DATE-TIME:20260218T203407Z
LOCATION:Zoom
URL:https://www.mountaineers.org/locations-lodges/seattle-branch/events/se
 attle-climbing-committee-meeting-6-2027-03-02
END:VEVENT
BEGIN:VTIMEZONE
TZID:America/Los_Angeles
X-LIC-LOCATION:America/Los_Angeles
BEGIN:STANDARD
DTSTART;VALUE=DATE-TIME:20261101T010000
TZNAME:PST
TZOFFSETFROM:-0700
TZOFFSETTO:-0800
END:STANDARD
END:VTIMEZONE
END:VCALENDAR
