BEGIN:VCALENDAR
VERSION:2.0
PRODID:-//Plone.org//NONSGML plone.app.event//EN
X-WR-TIMEZONE:US/Pacific
BEGIN:VEVENT
SUMMARY:Seattle Climbing Committee Meeting
DTSTART;VALUE=DATE-TIME:20260505T183000
DTEND;VALUE=DATE-TIME:20260505T203000
DTSTAMP;VALUE=DATE-TIME:20260421T164340Z
UID:2e2b1445cf4646d4a2fedf80a950fbe4@localhost:6081
CREATED;VALUE=DATE-TIME:20250828T070024Z
DESCRIPTION:Monthly meeting for Seattle Climbing. Odd months are via Zoom\
 , even are planned for in person at the SPC.
LAST-MODIFIED;VALUE=DATE-TIME:20260228T161821Z
LOCATION:Zoom
URL:https://www.mountaineers.org/locations-lodges/seattle-branch/events/se
 attle-climbing-committee-meeting-5-2026-05-05
END:VEVENT
BEGIN:VTIMEZONE
TZID:America/Los_Angeles
X-LIC-LOCATION:America/Los_Angeles
BEGIN:DAYLIGHT
DTSTART;VALUE=DATE-TIME:20260308T030000
TZNAME:PDT
TZOFFSETFROM:-0800
TZOFFSETTO:-0700
END:DAYLIGHT
END:VTIMEZONE
END:VCALENDAR
