BEGIN:VCALENDAR
VERSION:2.0
PRODID:-//Plone.org//NONSGML plone.app.event//EN
X-WR-TIMEZONE:US/Pacific
BEGIN:VEVENT
SUMMARY:Seattle Climbers Social
DTSTART;VALUE=DATE-TIME:20201022T190000
DTEND;VALUE=DATE-TIME:20201022T203000
DTSTAMP;VALUE=DATE-TIME:20260420T234116Z
UID:10fed2825092445abb272b622d2d172a@localhost:6081
CREATED;VALUE=DATE-TIME:20201001T144227Z
DESCRIPTION:Let's have some time to connect and share some photos and stor
 ies from our summer with our larger community. Beta & Brews but more infor
 mal with more opportunities for conversation.
LAST-MODIFIED;VALUE=DATE-TIME:20201023T014339Z
LOCATION:Your computer
URL:https://www.mountaineers.org/locations-lodges/seattle-branch/events/se
 attle-climbers-social
END:VEVENT
BEGIN:VTIMEZONE
TZID:America/Los_Angeles
X-LIC-LOCATION:America/Los_Angeles
BEGIN:DAYLIGHT
DTSTART;VALUE=DATE-TIME:20200308T030000
TZNAME:PDT
TZOFFSETFROM:-0800
TZOFFSETTO:-0700
END:DAYLIGHT
END:VTIMEZONE
END:VCALENDAR
