BEGIN:VCALENDAR
VERSION:2.0
PRODID:-//Plone.org//NONSGML plone.app.event//EN
X-WR-TIMEZONE:US/Pacific
BEGIN:VEVENT
SUMMARY:Gear Grab: Beacon Hill\, Seattle
DTSTART;VALUE=DATE-TIME:20170305T100000
DTEND;VALUE=DATE-TIME:20170305T120000
DTSTAMP;VALUE=DATE-TIME:20260420T234041Z
UID:fa3065e98c9141e28974964072f31c39@localhost:6081
CREATED;VALUE=DATE-TIME:20170124T191155Z
DESCRIPTION:Have gear\, want gear? Stop by the gear grab to find gently us
 ed outdoor equipment from your fellow northwest adventurers! Plus get gear
  repaired from Rainy Pass Repair!
LAST-MODIFIED;VALUE=DATE-TIME:20170302T182803Z
LOCATION:Jefferson Community Center
URL:https://www.mountaineers.org/locations-lodges/seattle-branch/events/ge
 ar-grab
END:VEVENT
BEGIN:VTIMEZONE
TZID:America/Los_Angeles
X-LIC-LOCATION:America/Los_Angeles
BEGIN:STANDARD
DTSTART;VALUE=DATE-TIME:20161106T010000
TZNAME:PST
TZOFFSETFROM:-0700
TZOFFSETTO:-0800
END:STANDARD
END:VTIMEZONE
END:VCALENDAR
