BEGIN:VCALENDAR
VERSION:2.0
PRODID:-//Plone.org//NONSGML plone.app.event//EN
X-WR-TIMEZONE:US/Pacific
BEGIN:VEVENT
SUMMARY:Dancing in Kirkland
DTSTART;VALUE=DATE-TIME:20260810T143000
DTEND;VALUE=DATE-TIME:20260810T163000
DTSTAMP;VALUE=DATE-TIME:20260422T164537Z
UID:1ba22eb1d3944a3abaa64acade4b16ba@localhost:6081
CREATED;VALUE=DATE-TIME:20260402T110742Z
DESCRIPTION:Folk and Ballroom dancing - prior experience suggested\, BUT n
 ot required\, come and jump on in.
LAST-MODIFIED;VALUE=DATE-TIME:20260402T110826Z
LOCATION:Peter Kirk Community Center
URL:https://www.mountaineers.org/locations-lodges/seattle-branch/events/da
 ncing-in-kirkland-every-week-2021-12-21-2022-02-22-2023-08-07-2023-09-11-2
 023-09-25-2023-10-09-2023-11-27-2024-01-08-2024-02-12-2024-03-11-2024-04-0
 8-2024-05-13-2024-06-10-2024-07-08-2025-2026-2026-08-10
END:VEVENT
BEGIN:VTIMEZONE
TZID:America/Los_Angeles
X-LIC-LOCATION:America/Los_Angeles
BEGIN:DAYLIGHT
DTSTART;VALUE=DATE-TIME:20260308T030000
TZNAME:PDT
TZOFFSETFROM:-0800
TZOFFSETTO:-0700
END:DAYLIGHT
END:VTIMEZONE
END:VCALENDAR
