BEGIN:VCALENDAR
VERSION:2.0
PRODID:-//Plone.org//NONSGML plone.app.event//EN
X-WR-TIMEZONE:US/Pacific
BEGIN:VEVENT
SUMMARY:Seattle Sailing Kickoff and Raft up
DTSTART;VALUE=DATE-TIME:20190323T103000
DTEND;VALUE=DATE-TIME:20190323T170000
DTSTAMP;VALUE=DATE-TIME:20260420T234142Z
UID:aa999337c4b0494bb4750673364c010a@localhost:6081
CREATED;VALUE=DATE-TIME:20190228T221014Z
DESCRIPTION:All Mountaineers welcome to join- Sign up here and you'll be a
 ssigned to a boat that leaves out of Lake Washington\, Shishole\, Elliott 
 Bay or Edmonds Marina. 
LAST-MODIFIED;VALUE=DATE-TIME:20190317T223002Z
LOCATION:Various boats
URL:https://www.mountaineers.org/locations-lodges/seattle-branch/events/co
 py_of_seattle-sailing-kickoff-and-raft-up
END:VEVENT
BEGIN:VTIMEZONE
TZID:America/Los_Angeles
X-LIC-LOCATION:America/Los_Angeles
BEGIN:DAYLIGHT
DTSTART;VALUE=DATE-TIME:20190310T030000
TZNAME:PDT
TZOFFSETFROM:-0800
TZOFFSETTO:-0700
END:DAYLIGHT
END:VTIMEZONE
END:VCALENDAR
