BEGIN:VCALENDAR
VERSION:2.0
PRODID:-//Plone.org//NONSGML plone.app.event//EN
X-WR-TIMEZONE:US/Pacific
BEGIN:VEVENT
SUMMARY:Discovering Seattle Parks author event at Fjällräven in Seattle
DTSTART;VALUE=DATE-TIME:20170914T180000
DTEND;VALUE=DATE-TIME:20170914T200000
DTSTAMP;VALUE=DATE-TIME:20260420T234213Z
UID:c5ca63cf0eb64f229d830d787d2942cf@localhost:6081
CREATED;VALUE=DATE-TIME:20170412T205830Z
DESCRIPTION:Mountaineers Books guidebook author Linnea Westerlind has rese
 arched and visited every single one of Seattle’s more than 400 public pa
 rks\, and now she shares the most fun and intriguing options in Discoverin
 g Seattle Parks\, a guide like no other.
LAST-MODIFIED;VALUE=DATE-TIME:20170427T193435Z
LOCATION:Fjallraven Seattle Store
URL:https://www.mountaineers.org/locations-lodges/seattle-branch/events/co
 py_of_discovering-seattle-parks-author-even-at-fjallraven-in-seattle
END:VEVENT
BEGIN:VTIMEZONE
TZID:America/Los_Angeles
X-LIC-LOCATION:America/Los_Angeles
BEGIN:DAYLIGHT
DTSTART;VALUE=DATE-TIME:20170312T030000
TZNAME:PDT
TZOFFSETFROM:-0800
TZOFFSETTO:-0700
END:DAYLIGHT
END:VTIMEZONE
END:VCALENDAR
