BEGIN:VCALENDAR
VERSION:2.0
PRODID:-//Plone.org//NONSGML plone.app.event//EN
X-WR-TIMEZONE:US/Pacific
BEGIN:VEVENT
SUMMARY:Seattle Explorers & Jr. MAC Kick-Off Trip - Leavenworth
DTSTART;VALUE=DATE:20251003
DTEND;VALUE=DATE:20251004
DTSTAMP;VALUE=DATE-TIME:20260422T071918Z
UID:0b0c64a1a3a8483dbb68edd5248db6be
CATEGORIES:Youth
DESCRIPTION:We offer a Kickoff trip or a "trial trip" where we will car ca
 mp\, climb\, and hike in Leavenworth. This trip will be open to returning 
 students and those who have been awarded a spot in the program through thi
 s lottery and want to try out their fit with the program. Students who hav
 e expressed interest through this lottery or elsewhere\, but were not awar
 ded a spot in the program through this lottery\, unfortunately\, will not 
 be invited to the Kick-Off Trip. Club Staff will sent you the registration
  link to the Kick Off trip if awarded a spot through the lottery.
LOCATION:Leavenworth
URL:https://www.mountaineers.org/locations-lodges/seattle-branch/committee
 s/seattle-youth-outreach-committee/seminars-clinics/seattle-explorers-jr-m
 ac-kick-off-trip-leavenworth-3
END:VEVENT
END:VCALENDAR
