BEGIN:VCALENDAR
VERSION:2.0
PRODID:-//Plone.org//NONSGML plone.app.event//EN
X-WR-TIMEZONE:US/Pacific
BEGIN:VEVENT
SUMMARY:PM Extended Care - Mountaineers Seattle Program Center
DTSTART;VALUE=DATE:20260709
DTEND;VALUE=DATE:20260710
DTSTAMP;VALUE=DATE-TIME:20260420T064633Z
UID:a0b215c99070493ca3dde9ca338863ef
CATEGORIES:Youth
DESCRIPTION:THURSDAY ONLY Afternoon Extended Day (4:00-5:30 pm)
LOCATION:Mountaineers Seattle Program Center
URL:https://www.mountaineers.org/locations-lodges/seattle-branch/committee
 s/seattle-youth-outreach-committee/course-templates/summer-camps/summer-ca
 mp-wind-and-waves-week/activities/pm-extended-care-mountaineers-seattle-pr
 ogram-center-12-2026-07-09
END:VEVENT
END:VCALENDAR
