BEGIN:VCALENDAR
VERSION:2.0
PRODID:-//Plone.org//NONSGML plone.app.event//EN
X-WR-TIMEZONE:US/Pacific
BEGIN:VEVENT
SUMMARY:AM Extended Care - Mountaineers Seattle Program Center
DTSTART;VALUE=DATE:20260710
DTEND;VALUE=DATE:20260711
DTSTAMP;VALUE=DATE-TIME:20260420T064633Z
UID:3f4be248a7334cb6a8b2d5b39ae83fb1
CATEGORIES:Youth
DESCRIPTION:FRIDAY ONLY Morning Extended Day (7:45- 8:45)
LOCATION:Mountaineers Seattle Program Center
URL:https://www.mountaineers.org/locations-lodges/seattle-branch/committee
 s/seattle-youth-outreach-committee/course-templates/summer-camps/summer-ca
 mp-wind-and-waves-week/activities/am-extended-care-mountaineers-seattle-pr
 ogram-center-11-2026-07-10
END:VEVENT
END:VCALENDAR
