BEGIN:VCALENDAR
VERSION:2.0
PRODID:-//Plone.org//NONSGML plone.app.event//EN
X-WR-TIMEZONE:US/Pacific
BEGIN:VEVENT
SUMMARY:AM Extended Care - Mountaineers Seattle Program Center
DTSTART;VALUE=DATE:20260709
DTEND;VALUE=DATE:20260710
DTSTAMP;VALUE=DATE-TIME:20260420T064639Z
UID:6933fb7d9dae4c50b0708a7e01429e82
CATEGORIES:Youth
DESCRIPTION:THURSDAY ONLY Morning Extended Day (7:45- 8:45)
LOCATION:Mountaineers Seattle Program Center
URL:https://www.mountaineers.org/locations-lodges/seattle-branch/committee
 s/seattle-youth-outreach-committee/course-templates/summer-camps/summer-ca
 mp-wind-and-waves-week/activities/am-extended-care-mountaineers-seattle-pr
 ogram-center-11-2026-07-09
END:VEVENT
END:VCALENDAR
