BEGIN:VCALENDAR
VERSION:2.0
PRODID:-//Plone.org//NONSGML plone.app.event//EN
X-WR-TIMEZONE:US/Pacific
BEGIN:VEVENT
SUMMARY:PM Extended Care - Mountaineers Seattle Program Center
DTSTART;VALUE=DATE:20260716
DTEND;VALUE=DATE:20260717
DTSTAMP;VALUE=DATE-TIME:20260420T064539Z
UID:e6350e157a114304bed23174d908d531
CATEGORIES:Youth
DESCRIPTION:THURSDAY ONLY Afternoon Extended Day (4:00-5:30 pm)
LOCATION:Mountaineers Seattle Program Center
URL:https://www.mountaineers.org/locations-lodges/seattle-branch/committee
 s/seattle-youth-outreach-committee/course-templates/summer-camps/summer-ca
 mp-water-week-2/activities/pm-extended-care-mountaineers-seattle-program-c
 enter-8-2026-07-16
END:VEVENT
END:VCALENDAR
