BEGIN:VCALENDAR
VERSION:2.0
PRODID:-//Plone.org//NONSGML plone.app.event//EN
X-WR-TIMEZONE:US/Pacific
BEGIN:VEVENT
SUMMARY:Field Trip Day - Outdoor Adventure Center - Index
DTSTART;VALUE=DATE:20260716
DTEND;VALUE=DATE:20260717
DTSTAMP;VALUE=DATE-TIME:20260420T064638Z
UID:c920991eccc34f34928faee278e6bbc4
CATEGORIES:Youth
DESCRIPTION:Mountaineers Water Week field trip to Outdoor Adventure Center
 .
LOCATION:Outdoor Adventure Center - Index
URL:https://www.mountaineers.org/locations-lodges/seattle-branch/committee
 s/seattle-youth-outreach-committee/course-templates/summer-camps/summer-ca
 mp-water-week-2/activities/field-trip-day-outdoor-adventure-center-index-2
END:VEVENT
END:VCALENDAR
