BEGIN:VCALENDAR
VERSION:2.0
PRODID:-//Plone.org//NONSGML plone.app.event//EN
X-WR-TIMEZONE:US/Pacific
BEGIN:VEVENT
SUMMARY:PM Extended Care - Mountaineers Seattle Program Center
DTSTART;VALUE=DATE:20260701
DTEND;VALUE=DATE:20260702
DTSTAMP;VALUE=DATE-TIME:20260420T064633Z
UID:e32c19624e7246f496af730bc0658793
CATEGORIES:Youth
DESCRIPTION:WEDNESDAY ONLY Afternoon Extended Day (4:00-5:30 pm)
LOCATION:Mountaineers Seattle Program Center
URL:https://www.mountaineers.org/locations-lodges/seattle-branch/committee
 s/seattle-youth-outreach-committee/course-templates/summer-camps/summer-ca
 mp-water-week-1/activities/pm-extended-care-mountaineers-seattle-program-c
 enter-9-2026-07-01
END:VEVENT
END:VCALENDAR
