BEGIN:VCALENDAR
VERSION:2.0
PRODID:-//Plone.org//NONSGML plone.app.event//EN
X-WR-TIMEZONE:US/Pacific
BEGIN:VEVENT
SUMMARY:AM Extended Care - Mountaineers Seattle Program Center
DTSTART;VALUE=DATE:20260630
DTEND;VALUE=DATE:20260701
DTSTAMP;VALUE=DATE-TIME:20260420T064539Z
UID:7da09817c2974a39b72b3d97ab0244b5
CATEGORIES:Youth
DESCRIPTION:TUESDAY ONLY Morning Extended Day (7:45- 8:45 )
LOCATION:Mountaineers Seattle Program Center
URL:https://www.mountaineers.org/locations-lodges/seattle-branch/committee
 s/seattle-youth-outreach-committee/course-templates/summer-camps/summer-ca
 mp-water-week-1/activities/am-extended-care-mountaineers-seattle-program-c
 enter-8
END:VEVENT
END:VCALENDAR
