BEGIN:VCALENDAR
VERSION:2.0
PRODID:-//Plone.org//NONSGML plone.app.event//EN
X-WR-TIMEZONE:US/Pacific
BEGIN:VEVENT
SUMMARY:AM Extended Care - Mountaineers Seattle Program Center
DTSTART;VALUE=DATE:20260701
DTEND;VALUE=DATE:20260702
DTSTAMP;VALUE=DATE-TIME:20260420T064639Z
UID:694130b604094bf580bc83cc65d2d957
CATEGORIES:Youth
DESCRIPTION:WEDNESDAY ONLY Morning Extended Day (7:45- 8:45 )
LOCATION:Mountaineers Seattle Program Center
URL:https://www.mountaineers.org/locations-lodges/seattle-branch/committee
 s/seattle-youth-outreach-committee/course-templates/summer-camps/summer-ca
 mp-water-week-1/activities/am-extended-care-mountaineers-seattle-program-c
 enter-8-2026-07-01
END:VEVENT
END:VCALENDAR
