BEGIN:VCALENDAR
VERSION:2.0
PRODID:-//Plone.org//NONSGML plone.app.event//EN
X-WR-TIMEZONE:US/Pacific
BEGIN:VEVENT
SUMMARY:AM Extended Care - Mountaineers Seattle Program Center
DTSTART;VALUE=DATE:20260626
DTEND;VALUE=DATE:20260627
DTSTAMP;VALUE=DATE-TIME:20260420T064633Z
UID:2017c1064eba4361a15139b67f12dd79
CATEGORIES:Youth
DESCRIPTION:FRIDAY ONLY Morning Extended Day (7:45- 8:45 )
LOCATION:Mountaineers Seattle Program Center
URL:https://www.mountaineers.org/locations-lodges/seattle-branch/committee
 s/seattle-youth-outreach-committee/course-templates/summer-camps/summer-ca
 mp-survivor-week/activities/am-extended-care-mountaineers-seattle-program-
 center-9-2026-06-26
END:VEVENT
END:VCALENDAR
