BEGIN:VCALENDAR
VERSION:2.0
PRODID:-//Plone.org//NONSGML plone.app.event//EN
X-WR-TIMEZONE:US/Pacific
BEGIN:VEVENT
SUMMARY:Field Trip Day - Exit 38
DTSTART;VALUE=DATE:20260730
DTEND;VALUE=DATE:20260731
DTSTAMP;VALUE=DATE-TIME:20260420T064521Z
UID:eda23151d52f4e0d88c7e048506a7975
CATEGORIES:Youth
DESCRIPTION:Field trip during Ropes and Rocks Week.
LOCATION:Exit 38
URL:https://www.mountaineers.org/locations-lodges/seattle-branch/committee
 s/seattle-youth-outreach-committee/course-templates/summer-camps/summer-ca
 mp-ropes-and-rock-week/activities/field-trip-day-exit-38-5
END:VEVENT
END:VCALENDAR
