BEGIN:VCALENDAR
VERSION:2.0
PRODID:-//Plone.org//NONSGML plone.app.event//EN
X-WR-TIMEZONE:US/Pacific
BEGIN:VEVENT
SUMMARY:Field Trip Day - Weeks Falls
DTSTART;VALUE=DATE:20260805
DTEND;VALUE=DATE:20260806
DTSTAMP;VALUE=DATE-TIME:20260420T064521Z
UID:6e1e515d2f9d4aa4be164045c5d328e3
CATEGORIES:Youth
DESCRIPTION:Field trip during Mountain Adventures Week.
LOCATION:Weeks Falls
URL:https://www.mountaineers.org/locations-lodges/seattle-branch/committee
 s/seattle-youth-outreach-committee/course-templates/summer-camps/summer-ca
 mp-mountain-adventures-week/activities/field-trip-day-weeks-falls
END:VEVENT
END:VCALENDAR
