BEGIN:VCALENDAR
VERSION:2.0
PRODID:-//Plone.org//NONSGML plone.app.event//EN
X-WR-TIMEZONE:US/Pacific
BEGIN:VEVENT
SUMMARY:Field Trip Day - Franklin Falls
DTSTART;VALUE=DATE:20260806
DTEND;VALUE=DATE:20260807
DTSTAMP;VALUE=DATE-TIME:20260420T064539Z
UID:8679ecb3144a477e9218eabe1e4d6cbc
CATEGORIES:Youth
DESCRIPTION:Field trip during Mountain Adventures Week.
LOCATION:Franklin Falls
URL:https://www.mountaineers.org/locations-lodges/seattle-branch/committee
 s/seattle-youth-outreach-committee/course-templates/summer-camps/summer-ca
 mp-mountain-adventures-week/activities/field-trip-day-franklin-falls-1
END:VEVENT
END:VCALENDAR
