BEGIN:VCALENDAR
VERSION:2.0
PRODID:-//Plone.org//NONSGML plone.app.event//EN
X-WR-TIMEZONE:US/Pacific
BEGIN:VEVENT
SUMMARY:Field Trip Day - Exit 38
DTSTART;VALUE=DATE:20260813
DTEND;VALUE=DATE:20260814
DTSTAMP;VALUE=DATE-TIME:20260420T064443Z
UID:4a9873bc213c4105b213b75530416fae
CATEGORIES:Youth
DESCRIPTION:Field trip during the week of Advanced Climbing week.
LOCATION:Exit 38
URL:https://www.mountaineers.org/locations-lodges/seattle-branch/committee
 s/seattle-youth-outreach-committee/course-templates/summer-camps/summer-ca
 mp-advanced-climbing-week/activities/field-trip-day-exit-38-13
END:VEVENT
END:VCALENDAR
