BEGIN:VCALENDAR
VERSION:2.0
PRODID:-//Plone.org//NONSGML plone.app.event//EN
X-WR-TIMEZONE:US/Pacific
BEGIN:VEVENT
SUMMARY:PM Extended Care - Mountaineers Seattle Program Center
DTSTART;VALUE=DATE:20260720
DTEND;VALUE=DATE:20260721
DTSTAMP;VALUE=DATE-TIME:20260420T064633Z
UID:797908d73a5c458386a3e724f5404851
CATEGORIES:Youth
DESCRIPTION:MONDAY ONLY Afternoon Extended Day (4:00-5:30 pm)
LOCATION:Mountaineers Seattle Program Center
URL:https://www.mountaineers.org/locations-lodges/seattle-branch/committee
 s/seattle-youth-outreach-committee/course-templates/summer-camps/copy_of_s
 ummer-camp-wind-and-waves-week/activities/pm-extended-care-mountaineers-se
 attle-program-center-2-2026-07-07-2026-07-20
END:VEVENT
END:VCALENDAR
