BEGIN:VCALENDAR
VERSION:2.0
PRODID:-//Plone.org//NONSGML plone.app.event//EN
X-WR-TIMEZONE:US/Pacific
BEGIN:VEVENT
SUMMARY:AM Extended Care - Mountaineers Seattle Program Center
DTSTART;VALUE=DATE:20260721
DTEND;VALUE=DATE:20260722
DTSTAMP;VALUE=DATE-TIME:20260420T064521Z
UID:6a9fe48c5e53475e9ae55cb8443a4a41
CATEGORIES:Youth
DESCRIPTION:TUESDAY ONLY Morning Extended Care (7:45- 8:45)
LOCATION:Mountaineers Seattle Program Center
URL:https://www.mountaineers.org/locations-lodges/seattle-branch/committee
 s/seattle-youth-outreach-committee/course-templates/summer-camps/copy_of_s
 ummer-camp-wind-and-waves-week/activities/am-extended-care-mountaineers-se
 attle-program-center-2
END:VEVENT
END:VCALENDAR
