BEGIN:VCALENDAR
VERSION:2.0
PRODID:-//Plone.org//NONSGML plone.app.event//EN
X-WR-TIMEZONE:US/Pacific
BEGIN:VEVENT
SUMMARY:AM Extended Care - Mountaineers Seattle Program Center
DTSTART;VALUE=DATE:20260724
DTEND;VALUE=DATE:20260725
DTSTAMP;VALUE=DATE-TIME:20260420T064634Z
UID:1e788e365ad44e24b02ca5181cf4fcf6
CATEGORIES:Youth
DESCRIPTION:FRIDAY ONLY Morning Extended Care (7:45- 8:45)
LOCATION:Mountaineers Seattle Program Center
URL:https://www.mountaineers.org/locations-lodges/seattle-branch/committee
 s/seattle-youth-outreach-committee/course-templates/summer-camps/copy_of_s
 ummer-camp-wind-and-waves-week/activities/am-extended-care-mountaineers-se
 attle-program-center-2-2026-07-24
END:VEVENT
END:VCALENDAR
