BEGIN:VCALENDAR
VERSION:2.0
PRODID:-//Plone.org//NONSGML plone.app.event//EN
X-WR-TIMEZONE:US/Pacific
BEGIN:VEVENT
SUMMARY:Field Trip Day - Exit 38
DTSTART;VALUE=DATE:20260819
DTEND;VALUE=DATE:20260820
DTSTAMP;VALUE=DATE-TIME:20260420T064521Z
UID:a47dff8f2f284c33b1889514ea5138a9
CATEGORIES:Youth
DESCRIPTION:Field trip during Ropes and Rocks Week.
LOCATION:Exit 38
URL:https://www.mountaineers.org/locations-lodges/seattle-branch/committee
 s/seattle-youth-outreach-committee/course-templates/summer-camps/copy_of_s
 ummer-camp-ropes-and-rock-week/activities/field-trip-day-exit-38-2
END:VEVENT
END:VCALENDAR
