BEGIN:VCALENDAR
VERSION:2.0
PRODID:-//Plone.org//NONSGML plone.app.event//EN
X-WR-TIMEZONE:US/Pacific
BEGIN:VEVENT
SUMMARY:Seattle Pathfinders Vertical World Family Climb Session - Vertical
  World\, Seattle
DTSTART;VALUE=DATE:20260621
DTEND;VALUE=DATE:20260622
DTSTAMP;VALUE=DATE-TIME:20260422T053917Z
UID:19343c7e32df4f4db1fcd4a0b27b0528
CATEGORIES:Climbing
DESCRIPTION:Join Mountaineers youth program members for our new monthly cl
 imbing meetups!
LOCATION:Vertical World\, Seattle
URL:https://www.mountaineers.org/locations-lodges/seattle-branch/committee
 s/seattle-youth-outreach-committee/course-templates/pioneers-the-mountaine
 ers/activities/vertical-world-family-climb-session-vertical-world-seattle-
 6
END:VEVENT
END:VCALENDAR
