BEGIN:VCALENDAR
VERSION:2.0
PRODID:-//Plone.org//NONSGML plone.app.event//EN
X-WR-TIMEZONE:US/Pacific
BEGIN:VEVENT
SUMMARY:Seattle Pathfinders Hike - Ravenna Park
DTSTART;VALUE=DATE:20260530
DTEND;VALUE=DATE:20260531
DTSTAMP;VALUE=DATE-TIME:20260422T053918Z
UID:b9688c7491674cacaaebdcfab53f9763
CATEGORIES:Youth
DESCRIPTION:Join us for a day of hiking!
LOCATION:Ravenna Park
URL:https://www.mountaineers.org/locations-lodges/seattle-branch/committee
 s/seattle-youth-outreach-committee/course-templates/pioneers-the-mountaine
 ers/activities/seattle-pathfinders-hike-ravenna-park
END:VEVENT
END:VCALENDAR
