BEGIN:VCALENDAR
VERSION:2.0
PRODID:-//Plone.org//NONSGML plone.app.event//EN
X-WR-TIMEZONE:US/Pacific
BEGIN:VEVENT
SUMMARY:Seattle Pathfinders Backpacking Trip - Shi Shi Beach
DTSTART;VALUE=DATE:20260710
DTEND;VALUE=DATE:20260711
DTSTAMP;VALUE=DATE-TIME:20260419T155718Z
UID:dea5b04c657247a6abb2aebafdc0a3ae
CATEGORIES:Backpacking
DESCRIPTION:Join us on this magical and playful backpacking destination. W
 e will hike 4 flat miles (two on the beach!) to the sea stacks\, camp for 
 2 nights and spend the last day visiting the amazing Makah cultural center
  which houses over 50 000 pre contact artifacts from the 500 year-old Ozet
 te Archaeological Site\, a village buried by a mudslide.
LOCATION:Shi Shi Beach
URL:https://www.mountaineers.org/locations-lodges/seattle-branch/committee
 s/seattle-youth-outreach-committee/course-templates/pioneers-the-mountaine
 ers/activities/seattle-pathfinders-backpacking-trip-shi-shi-beach
END:VEVENT
END:VCALENDAR
