BEGIN:VCALENDAR
VERSION:2.0
PRODID:-//Plone.org//NONSGML plone.app.event//EN
X-WR-TIMEZONE:US/Pacific
BEGIN:VEVENT
SUMMARY:Seattle MAC Kick Off Weekend - Leavenworth
DTSTART;VALUE=DATE:20230915
DTEND;VALUE=DATE:20230916
DTSTAMP;VALUE=DATE-TIME:20260420T132805Z
UID:4347193583604a46bb74a8f7614889bb
CATEGORIES:Climbing
DESCRIPTION:Leavenworth for the weekend!
LOCATION:Leavenworth
URL:https://www.mountaineers.org/locations-lodges/seattle-branch/committee
 s/seattle-youth-outreach-committee/course-templates/mountaineers-adventure
 -club-seattle/activities/seattle-mac-kick-off-weekend-leavenworth-1
END:VEVENT
END:VCALENDAR
