BEGIN:VCALENDAR
VERSION:2.0
PRODID:-//Plone.org//NONSGML plone.app.event//EN
X-WR-TIMEZONE:US/Pacific
BEGIN:VEVENT
SUMMARY:Seattle MAC Advanced Curricula: Self Rescue Series - Mountaineers 
 Seattle Program Center
DTSTART;VALUE=DATE:20260426
DTEND;VALUE=DATE:20260427
DTSTAMP;VALUE=DATE-TIME:20260420T063709Z
UID:6c1642aa68654ec69a0c7fb5d1310848
CATEGORIES:Avalanche Safety
DESCRIPTION:We will be running the full demo - from start to finihs.
LOCATION:Mountaineers Seattle Program Center
URL:https://www.mountaineers.org/locations-lodges/seattle-branch/committee
 s/seattle-youth-outreach-committee/course-templates/mountaineers-adventure
 -club-seattle/activities/seattle-mac-advanced-curricula-self-rescue-series
 -mountaineers-seattle-program-center-1
END:VEVENT
END:VCALENDAR
