BEGIN:VCALENDAR
VERSION:2.0
PRODID:-//Plone.org//NONSGML plone.app.event//EN
X-WR-TIMEZONE:US/Pacific
BEGIN:VEVENT
SUMMARY:Seattle MAC Cross-Country Ski Trip - North Fork Tieton
DTSTART;VALUE=DATE:20170225
DTEND;VALUE=DATE:20170226
DTSTAMP;VALUE=DATE-TIME:20260419T181141Z
UID:370b12d4b0554266b9f86fe9c92d0f12
CATEGORIES:Youth
DESCRIPTION:Location is tentative - plan is a cross-country backcountry sk
 i/tent camp overnight!
LOCATION:North Fork Tieton
URL:https://www.mountaineers.org/locations-lodges/seattle-branch/committee
 s/seattle-youth-outreach-committee/course-templates/mountaineers-adventure
 -club-seattle/activities/adventure-club-cross-country-ski-weekend-north-fo
 rk-tieton-winter
END:VEVENT
END:VCALENDAR
