BEGIN:VCALENDAR
VERSION:2.0
PRODID:-//Plone.org//NONSGML plone.app.event//EN
X-WR-TIMEZONE:US/Pacific
BEGIN:VEVENT
SUMMARY:Seattle Jr. MAC Vertical World Family Climb Session - Vertical Wor
 ld\, Seattle
DTSTART;VALUE=DATE:20260517
DTEND;VALUE=DATE:20260518
DTSTAMP;VALUE=DATE-TIME:20260420T221400Z
UID:6ad3da1c449d4cb3b04ac8745c8d6b90
CATEGORIES:Climbing
DESCRIPTION:Join Mountaineers youth program members for our new monthly cl
 imbing meetups!
LOCATION:Vertical World\, Seattle
URL:https://www.mountaineers.org/locations-lodges/seattle-branch/committee
 s/seattle-youth-outreach-committee/course-templates/junior-mac-seattle/act
 ivities/vertical-world-family-climb-session-vertical-world-seattle-5
END:VEVENT
END:VCALENDAR
