BEGIN:VCALENDAR
VERSION:2.0
PRODID:-//Plone.org//NONSGML plone.app.event//EN
X-WR-TIMEZONE:US/Pacific
BEGIN:VEVENT
SUMMARY:Seattle Jr. MAC Summer Trip - Squamish
DTSTART;VALUE=DATE:20260720
DTEND;VALUE=DATE:20260721
DTSTAMP;VALUE=DATE-TIME:20260420T221233Z
UID:2fd1fbf28917442cabc0788bce5692c2
CATEGORIES:Youth
DESCRIPTION:Join the Jr. MACers (and Explorers) on a 5 day trip to somewhe
 re in the PNW!
LOCATION:Squamish
URL:https://www.mountaineers.org/locations-lodges/seattle-branch/committee
 s/seattle-youth-outreach-committee/course-templates/junior-mac-seattle/act
 ivities/seattle-junior-mac-summer-trip-squamish-4
END:VEVENT
END:VCALENDAR
