BEGIN:VCALENDAR
VERSION:2.0
PRODID:-//Plone.org//NONSGML plone.app.event//EN
X-WR-TIMEZONE:US/Pacific
BEGIN:VEVENT
SUMMARY:Seattle Jr. MAC General Meeting - Mountaineers Seattle Program Cen
 ter
DTSTART;VALUE=DATE:20260708
DTEND;VALUE=DATE:20260709
DTSTAMP;VALUE=DATE-TIME:20260420T221750Z
UID:fddf9591f35f4e03b5c68f0d370cf971
CATEGORIES:Youth
DESCRIPTION:Jr. MAC meet once a month at the Seattle Program Center from 6
 -8pm
LOCATION:Mountaineers Seattle Program Center
URL:https://www.mountaineers.org/locations-lodges/seattle-branch/committee
 s/seattle-youth-outreach-committee/course-templates/junior-mac-seattle/act
 ivities/seattle-junior-mac-meeting-mountaineers-seattle-program-center-25-
 2026-07-08
END:VEVENT
END:VCALENDAR
