BEGIN:VCALENDAR
VERSION:2.0
PRODID:-//Plone.org//NONSGML plone.app.event//EN
X-WR-TIMEZONE:US/Pacific
BEGIN:VEVENT
SUMMARY:Seattle Jr. MAC Climbing - Index Town Walls
DTSTART;VALUE=DATE:20260510
DTEND;VALUE=DATE:20260511
DTSTAMP;VALUE=DATE-TIME:20260420T221238Z
UID:b298cbf6fe8a4187b47656b9859f098b
CATEGORIES:Youth
DESCRIPTION:Join us for a day of climbing at a local crag!
LOCATION:Index Town Walls
URL:https://www.mountaineers.org/locations-lodges/seattle-branch/committee
 s/seattle-youth-outreach-committee/course-templates/junior-mac-seattle/act
 ivities/seattle-junior-mac-climbing-index-town-walls-1
END:VEVENT
END:VCALENDAR
