BEGIN:VCALENDAR
VERSION:2.0
PRODID:-//Plone.org//NONSGML plone.app.event//EN
X-WR-TIMEZONE:US/Pacific
BEGIN:VEVENT
SUMMARY:Seattle Jr. MAC Climb Night - Mountaineers Seattle Program Center
DTSTART;VALUE=DATE:20260617
DTEND;VALUE=DATE:20260618
DTSTAMP;VALUE=DATE-TIME:20260420T221330Z
UID:4b19501be8164e2689e18f257d113747
CATEGORIES:Youth
DESCRIPTION:Youth Programs open the climbing wall to students and families
 .
LOCATION:Mountaineers Seattle Program Center
URL:https://www.mountaineers.org/locations-lodges/seattle-branch/committee
 s/seattle-youth-outreach-committee/course-templates/junior-mac-seattle/act
 ivities/seattle-junior-mac-climb-night-mountaineers-seattle-program-center
 -23-2026-06-17
END:VEVENT
END:VCALENDAR
