BEGIN:VCALENDAR
VERSION:2.0
PRODID:-//Plone.org//NONSGML plone.app.event//EN
X-WR-TIMEZONE:US/Pacific
BEGIN:VEVENT
SUMMARY:Seattle Jr. MAC Camping & Climbing Trip - Tieton River: Royal Colu
 mns
DTSTART;VALUE=DATE:20260515
DTEND;VALUE=DATE:20260516
DTSTAMP;VALUE=DATE-TIME:20260420T221239Z
UID:f131193edc3e418f8124fc83459afec6
CATEGORIES:Youth
DESCRIPTION:Join us for a weekend of climbing and hiking!
LOCATION:Tieton River: Royal Columns
URL:https://www.mountaineers.org/locations-lodges/seattle-branch/committee
 s/seattle-youth-outreach-committee/course-templates/junior-mac-seattle/act
 ivities/seattle-junior-mac-camping-climbing-trip-tieton-river-royal-column
 s
END:VEVENT
END:VCALENDAR
