BEGIN:VCALENDAR
VERSION:2.0
PRODID:-//Plone.org//NONSGML plone.app.event//EN
X-WR-TIMEZONE:US/Pacific
BEGIN:VEVENT
SUMMARY:Seattle Jr. MAC Scramble - Mount St. Helens/Worm Flows
DTSTART;VALUE=DATE:20260530
DTEND;VALUE=DATE:20260531
DTSTAMP;VALUE=DATE-TIME:20260421T041351Z
UID:bc16e2c6215b43c991a46599c3918499
CATEGORIES:Youth
DESCRIPTION:This will be a climb of Mt. St. Helens. We will either drive d
 own on Friday night or early Saturday morning. We will camp on Saturday ni
 ght before heading back.
LOCATION:Mount St. Helens/Worm Flows
URL:https://www.mountaineers.org/locations-lodges/seattle-branch/committee
 s/seattle-youth-outreach-committee/course-templates/junior-mac-seattle/act
 ivities/seattle-jr-mac-scramble-mount-st-helens-worm-flows
END:VEVENT
END:VCALENDAR
