BEGIN:VCALENDAR
VERSION:2.0
PRODID:-//Plone.org//NONSGML plone.app.event//EN
X-WR-TIMEZONE:US/Pacific
BEGIN:VEVENT
SUMMARY:Seattle Jr. MAC Hike - Oyster Dome
DTSTART;VALUE=DATE:20260627
DTEND;VALUE=DATE:20260628
DTSTAMP;VALUE=DATE-TIME:20260420T064444Z
UID:03c15ca8db024b018d25fdd5d3db80d4
CATEGORIES:Youth
DESCRIPTION:Join us for a day of hiking!
LOCATION:Oyster Dome
URL:https://www.mountaineers.org/locations-lodges/seattle-branch/committee
 s/seattle-youth-outreach-committee/course-templates/junior-mac-seattle/act
 ivities/seattle-jr-mac-hike-oyster-dome-2
END:VEVENT
END:VCALENDAR
