BEGIN:VCALENDAR
VERSION:2.0
PRODID:-//Plone.org//NONSGML plone.app.event//EN
X-WR-TIMEZONE:US/Pacific
BEGIN:VEVENT
SUMMARY:Seattle Explorers Hike - Wallace Falls
DTSTART;VALUE=DATE:20260620
DTEND;VALUE=DATE:20260621
DTSTAMP;VALUE=DATE-TIME:20260420T064438Z
UID:3e85d4080b374771ac1a16ce694483a4
CATEGORIES:Youth
DESCRIPTION:Join us for a day of hiking!
LOCATION:Wallace Falls
URL:https://www.mountaineers.org/locations-lodges/seattle-branch/committee
 s/seattle-youth-outreach-committee/course-templates/explorers-seattle/acti
 vities/seattle-explorers-hike-wallace-falls-3
END:VEVENT
END:VCALENDAR
