BEGIN:VCALENDAR
VERSION:2.0
PRODID:-//Plone.org//NONSGML plone.app.event//EN
X-WR-TIMEZONE:US/Pacific
BEGIN:VEVENT
SUMMARY:New Urban Walk Leader Seminar - Mountaineers Seattle Program Cente
 r
DTSTART;VALUE=DATE:20260504
DTEND;VALUE=DATE:20260505
DTSTAMP;VALUE=DATE-TIME:20260422T052616Z
UID:439c59ab92e94701a60ffc75dfff1c44
CATEGORIES:Urban Walking
DESCRIPTION:Virtual\, one to two-hour\, New Urban Walk Leader seminar for 
 prospective Urban Walk leaders. There is some short reading and viewing pr
 ior to the seminar.
LOCATION:Mountaineers Seattle Program Center
URL:https://www.mountaineers.org/locations-lodges/seattle-branch/committee
 s/seattle-urban-walking-committee/seminars-clinics/new-urban-walk-leader-s
 eminar-mountaineers-seattle-program-center
END:VEVENT
END:VCALENDAR
