BEGIN:VCALENDAR
VERSION:2.0
PRODID:-//Plone.org//NONSGML plone.app.event//EN
X-WR-TIMEZONE:US/Pacific
BEGIN:VEVENT
SUMMARY:March GoWalk! L5 Urban Walks: 4 to 8 miles\, 500 to 1000 feet of e
 levation gain - Seattle Olmsted 70: Section 8\, Loop
DTSTART;VALUE=DATE:20260308
DTEND;VALUE=DATE:20260309
DTSTAMP;VALUE=DATE-TIME:20260419T181337Z
UID:7df5c00bdad54ab0b173902e31d5c948
CATEGORIES:Urban Walking
DESCRIPTION:GoWalk! L5 March Urban Walks are low-stress activities to help
  you determine where you are after six months of urban walks. For some\, t
 hese will be graduation walks if all course requirements have been met.
LOCATION:Seattle Olmsted 70: Section 8\, Loop
URL:https://www.mountaineers.org/locations-lodges/seattle-branch/committee
 s/seattle-urban-walking-committee/course-templates/gohike-beginner-hiking-
 series-foothills/activities/march-gowalk-l5-urban-walks-4-to-8-miles-500-t
 o-1000-feet-of-elevation-gain-seattle-olmsted-70-section-8-loop
END:VEVENT
END:VCALENDAR
