BEGIN:VCALENDAR
VERSION:2.0
PRODID:-//Plone.org//NONSGML plone.app.event//EN
X-WR-TIMEZONE:US/Pacific
BEGIN:VEVENT
SUMMARY:March GoWalk! L5 Urban Walks: 4 to 8 miles\, 500 to 1000 feet of e
 levation gain - Downtown Issaquah
DTSTART;VALUE=DATE:20240323
DTEND;VALUE=DATE:20240324
DTSTAMP;VALUE=DATE-TIME:20260423T083022Z
UID:f06f4a28920841f690d863d8780e7665
CATEGORIES:Urban Walking
DESCRIPTION:GoWalk!\nLet's spend the morning walking both urban and forest
 ed trails in and around the town of Issaquah. Starting and ending at the I
 ssaquah Community Center\, we'll visit the Harvey Manning statue\, the Iss
 aquah State Salmon Hatchery\, Jakob Two Trees (the Issaquah Troll)\, an ol
 d school bus\, and a very big and very old Douglas Fir. This is a 6.25 mil
 e walk with nearly 550 ft of elevation gain.
LOCATION:Downtown Issaquah
URL:https://www.mountaineers.org/locations-lodges/seattle-branch/committee
 s/seattle-urban-walking-committee/course-templates/gohike-beginner-hiking-
 series-foothills/activities/march-gowalk-l5-urban-walks-4-to-8-miles-500-t
 o-1000-feet-of-elevation-gain-downtown-issaquah
END:VEVENT
END:VCALENDAR
