BEGIN:VCALENDAR
VERSION:2.0
PRODID:-//Plone.org//NONSGML plone.app.event//EN
X-WR-TIMEZONE:US/Pacific
BEGIN:VEVENT
SUMMARY:Avalanche Awareness - Mountaineers Seattle Program Center
DTSTART;VALUE=DATE:20181214
DTEND;VALUE=DATE:20181215
DTSTAMP;VALUE=DATE-TIME:20260420T082402Z
UID:9ad28c2b65aa45c380b3af37de71ebe4
CATEGORIES:Avalanche Safety
DESCRIPTION:NWAC Avalanche Awareness Seminar\, free & open to all
LOCATION:Mountaineers Seattle Program Center
URL:https://www.mountaineers.org/locations-lodges/seattle-branch/committee
 s/seattle-snowshoeing-committee/seminars-clinics/avalanche-awareness-mount
 aineers-seattle-program-center-9
END:VEVENT
END:VCALENDAR
