BEGIN:VCALENDAR
VERSION:2.0
PRODID:-//Plone.org//NONSGML plone.app.event//EN
X-WR-TIMEZONE:US/Pacific
BEGIN:VEVENT
SUMMARY:Avalanche Awareness - Mountaineers Seattle Program Center
DTSTART;VALUE=DATE:20180111
DTEND;VALUE=DATE:20180112
DTSTAMP;VALUE=DATE-TIME:20260419T180353Z
UID:3b1305d7db384cf4b4c86181e3942c87
CATEGORIES:Avalanche Safety,Snowshoeing
DESCRIPTION:Learn the basics of evaluating avalanche terrain and the frame
 work for safe winter trip planning.
LOCATION:Mountaineers Seattle Program Center
URL:https://www.mountaineers.org/locations-lodges/seattle-branch/committee
 s/seattle-snowshoeing-committee/seminars-clinics/avalanche-awareness-mount
 aineers-seattle-program-center-7
END:VEVENT
END:VCALENDAR
