BEGIN:VCALENDAR
PRODID:-//Mountaineers.org//ICalendar Support
VERSION:2.0
METHOD:PUBLISH
BEGIN:VEVENT
DTSTAMP:20260420T005330Z
CREATED:20170430T234910Z
UID:ATEvent-6b94498bf88a419ebbcf3fed9d86ff5c
LAST-MODIFIED:20180302T054320Z
SUMMARY:Basic Snowshoeing Course - Seattle - 2018
DTSTART:20171205T080000Z
DTEND:20180303T075900Z
DESCRIPTION:Basic Snowshoeing Course - Seattle
CATEGORIES:Snowshoeing, Winter Trails Day
CLASS:PUBLIC
END:VEVENT
BEGIN:VEVENT
DTSTAMP:20260420T005330Z
CREATED:20170918T182202Z
UID:ATEvent-deeabbaa0cb942509aff693f7e6e8843
LAST-MODIFIED:20180110T115100Z
SUMMARY:Basic Snowshoeing Course - Foothills - 2018
DTSTART:20180103T080000Z
DTEND:20180501T065900Z
DESCRIPTION:Intro to snowshoe. Learn how to get out into the winter wo
 nderland confidently and safely on snowshoes.
CATEGORIES:Snowshoeing, Winter Trails Day
CLASS:PUBLIC
END:VEVENT
BEGIN:VEVENT
DTSTAMP:20260420T005330Z
CREATED:20170814T181630Z
UID:ATEvent-7df1819309a94513b423fc2dbd13f59d
LAST-MODIFIED:20180107T035828Z
SUMMARY:Nordic (Cross-country) Ski Course   - Everett - 2018
DTSTART:20180104T080000Z
DTEND:20180401T065900Z
DESCRIPTION:Learn to travel safely and efficiently on cross-country sk
 is both on and off track. The course covers equipment\, conditioning\,
  preparation\, diagonal stride\, uphill techniques\, and downhill spee
 d control\,  We do not cover racing or skating.
CATEGORIES:Winter Trails Day
CLASS:PUBLIC
END:VEVENT
BEGIN:VEVENT
DTSTAMP:20260420T005330Z
CREATED:20170926T210709Z
UID:ATEvent-230304d79d7f433c96b812977d9c15b4
LAST-MODIFIED:20171230T000132Z
SUMMARY:Methow Valley Winter Activities
DTSTART:20180105T230000Z
DTEND:20180108T010000Z
DESCRIPTION:Head over to the beautiful Methow Valley for a weekend of 
 enjoyable outdoor activities in central Washington! The Methow Valley 
 is home to some of the best skiing and snowshoeing in the country\, an
 d the local community is lively with activity all winter long.
CATEGORIES:Public Events, Home Page, Seattle Branch, Winter Trails Day
CLASS:PUBLIC
END:VEVENT
BEGIN:VEVENT
DTSTAMP:20260420T005330Z
CREATED:20171120T012551Z
UID:ATEvent-e837846c97c94f3b979516266fb28de1
LAST-MODIFIED:20210317T192559Z
SUMMARY:Cross-country Ski - Methow Valley Winter Trails
DTSTART:20180106T080000Z
DTEND:20180107T075900Z
DESCRIPTION:Explore the interesting trails around Mazama within the Me
 thow trail system.  Slower paced\, shorter distance option for Winter 
 Trails weekend
CATEGORIES:Winter Trails Day
CLASS:PUBLIC
END:VEVENT
BEGIN:VEVENT
DTSTAMP:20260420T005330Z
CREATED:20170906T000247Z
UID:ATEvent-1271e2cfdf004d2c9d309a5e94a729f8
LAST-MODIFIED:20180107T233029Z
SUMMARY:Snowshoe Trek and Lunch (L) - Meany Lodge
DTSTART:20180106T080000Z
DTEND:20180107T075900Z
DESCRIPTION:3 - 4 miles with  500 ft elevation gain in last mile (appr
 ox 2 - 3 hrs) guided snowshoe to Meany Lodge\, where a hot lunch will 
 be served about 12:30 PM. 3 - 5 miles back down to the snow-park. **Pl
 ease put Dietary Restrictions and/or Snowshoe borrow request(s) in Not
 es when registering**
CATEGORIES:Winter Trails Day, Meany Lodge
CLASS:PUBLIC
END:VEVENT
BEGIN:VEVENT
DTSTAMP:20260420T005330Z
CREATED:20170916T170128Z
UID:ATEvent-300b56c68b6c4c0aa00dec12f6bf2703
LAST-MODIFIED:20180111T201119Z
SUMMARY:Cross-country Ski - Methow Valley Winter Trails
DTSTART:20180106T080000Z
DTEND:20180107T075900Z
DESCRIPTION:Explore some of the wonderful trails in the Mazama area: a
 pproximately 12 miles round trip and minimal elevation gain
CATEGORIES:Winter Trails Day
CLASS:PUBLIC
END:VEVENT
BEGIN:VEVENT
DTSTAMP:20260420T005330Z
CREATED:20170915T003449Z
UID:ATEvent-d68a31f69cad4c888f58f0487c0f6ada
LAST-MODIFIED:20171228T205534Z
SUMMARY:Cross-country/Randonnee Ski Trek and Lunch (M) - Meany Lodge
DTSTART:20180106T080000Z
DTEND:20180107T075900Z
DESCRIPTION:3 - 5 miles with 500 ft elevation gain in last mile (appro
 x 2 - 4 hrs depending on route taken) in a guided trek to Meany Lodge.
  A hearty hot lunch will be served at 12:30 PM (make sure to note diet
 ary restrictions when registering).
CATEGORIES:Winter Trails Day, Meany Lodge
CLASS:PUBLIC
END:VEVENT
BEGIN:VEVENT
DTSTAMP:20260420T005330Z
CREATED:20171220T234039Z
UID:ATEvent-b7425f810f7040158b7d83260b408586
LAST-MODIFIED:20180107T012103Z
SUMMARY:Basic Snowshoe - Lanham Lake
DTSTART:20180106T080000Z
DTEND:20180107T075900Z
DESCRIPTION:A slow paced snow shoe to the shores of Lanham lake for lu
 nch and views
CATEGORIES:Snowshoeing, Winter Trails Day
CLASS:PUBLIC
END:VEVENT
BEGIN:VEVENT
DTSTAMP:20260420T005330Z
CREATED:20171120T015511Z
UID:ATEvent-f20887af41a1499e850acd9fa8fcb699
LAST-MODIFIED:20180109T024250Z
SUMMARY:Cross-country Ski - Methow Valley Winter Trails
DTSTART:20180107T080000Z
DTEND:20180108T075900Z
DESCRIPTION:A half-day trip to explore the Sun Mountain trails.  Slowe
 r paced\, shorter distance option for Winter trails weekend
CATEGORIES:Winter Trails Day
CLASS:PUBLIC
END:VEVENT
BEGIN:VEVENT
DTSTAMP:20260420T005330Z
CREATED:20171010T175237Z
UID:ATEvent-f34c8965a219417291bd2b9123d081a6
LAST-MODIFIED:20171205T180229Z
SUMMARY:Intro to Skate Skiing Course - 2018
DTSTART:20180107T080000Z
DTEND:20180205T075900Z
DESCRIPTION:Three week intro course for novices or beginners.
CATEGORIES:Winter Trails Day, Cross-country Skiing
CLASS:PUBLIC
END:VEVENT
BEGIN:VEVENT
DTSTAMP:20260420T005330Z
CREATED:20171010T181753Z
UID:ATEvent-cf61893c7c654582b25de0cb7172db8e
LAST-MODIFIED:20180104T032459Z
SUMMARY:Intro to Cross-Country (Classic) Skiing - AM - 2018
DTSTART:20180107T080000Z
DTEND:20180205T075900Z
DESCRIPTION:A three-week course for novice or beginning classic cross-
 country skiers.
CATEGORIES:Cross-country Skiing, Winter Trails Day
CLASS:PUBLIC
END:VEVENT
BEGIN:VEVENT
DTSTAMP:20260420T005330Z
CREATED:20171010T183131Z
UID:ATEvent-776ee7c584f549bcabf675007ea76444
LAST-MODIFIED:20180104T032659Z
SUMMARY:Intro to Cross-Country (Classic) Skiing - PM - 2018
DTSTART:20180107T080000Z
DTEND:20180205T075900Z
DESCRIPTION:A three-week course for novice or beginning classic cross-
 country skiers.
CATEGORIES:Cross-country Skiing, Winter Trails Day
CLASS:PUBLIC
END:VEVENT
BEGIN:VEVENT
DTSTAMP:20260420T005330Z
CREATED:20170916T171555Z
UID:ATEvent-ef8eaf0e8abe43938f6c6dec1b92449d
LAST-MODIFIED:20180111T200855Z
SUMMARY:Cross-country Ski - Methow Valley Winter Trails
DTSTART:20180107T080000Z
DTEND:20180108T075900Z
DESCRIPTION:A half-day trip to explore some of the wonderful Sun Mount
 ain Ski Trails
CATEGORIES:Winter Trails Day
CLASS:PUBLIC
END:VEVENT
BEGIN:VEVENT
DTSTAMP:20260420T005330Z
CREATED:20170907T193853Z
UID:ATEvent-6683cf6307ba4db1b6bc807d12ec22a2
LAST-MODIFIED:20180109T202544Z
SUMMARY:Basic Nordic Skiing - Olympia - 2018
DTSTART:20180108T080000Z
DTEND:20180122T075900Z
DESCRIPTION:This series of four lectures will include an orientation t
 o backcountry travel\, avalanche awareness and safety\, route selectio
 n\, cold weather ailments\, clothing\, and equipment.
CATEGORIES:Winter Trails Day
CLASS:PUBLIC
END:VEVENT
BEGIN:VEVENT
DTSTAMP:20260420T005330Z
CREATED:20170907T200207Z
UID:ATEvent-6c77cef13d294704b7aeef52390aff91
LAST-MODIFIED:20180107T142802Z
SUMMARY:Basic Snowshoeing - Olympia - 2018
DTSTART:20180108T080000Z
DTEND:20180122T075900Z
DESCRIPTION:This series of four lectures will include an orientation t
 o backcountry travel\, avalanche awareness and safety\, route selectio
 n\, cold weather ailments\, clothing\, and equipment.  Even if you alr
 eady know how to ski or snowshoe\, the training in avalanche terrain r
 ecognition and avalanche avoidance\, is well worth taking the class an
 d improving your safety in the backcountry.  Students may take the Sno
 wshoeing course or the Nordic ski course separately\, or both together
 .  Both field trips are required.
CATEGORIES:Winter Trails Day
CLASS:PUBLIC
END:VEVENT
BEGIN:VEVENT
DTSTAMP:20260420T005330Z
CREATED:20171025T044703Z
UID:ATEvent-1274a584281c429fb03383d6cdae24f7
LAST-MODIFIED:20180110T193241Z
SUMMARY:Avalanche Awareness Seminar - Mountaineers Tacoma Program Center
DTSTART:20180109T080000Z
DTEND:20180110T075900Z
DESCRIPTION:Avalanche Awareness Seminar
CATEGORIES:Avalanche Awareness, Avalanche Safety, Snowshoeing, Climbing, Winter Trails Day
CLASS:PUBLIC
END:VEVENT
BEGIN:VEVENT
DTSTAMP:20260420T005330Z
CREATED:20171014T000704Z
UID:ATEvent-3b1305d7db384cf4b4c86181e3942c87
LAST-MODIFIED:20180113T024125Z
SUMMARY:Avalanche Awareness - Mountaineers Seattle Program Center
DTSTART:20180111T080000Z
DTEND:20180112T075900Z
DESCRIPTION:Learn the basics of evaluating avalanche terrain and the f
 ramework for safe winter trip planning.
CATEGORIES:Avalanche Safety, Snowshoeing, Winter Trails Day
CLASS:PUBLIC
END:VEVENT
BEGIN:VEVENT
DTSTAMP:20260420T005330Z
CREATED:20170906T000603Z
UID:ATEvent-1a2aacff81974da98399dbda5bff0522
LAST-MODIFIED:20180115T012125Z
SUMMARY:Snowshoe Trek and Lunch (L) - Meany Lodge
DTSTART:20180113T080000Z
DTEND:20180114T075900Z
DESCRIPTION:Snowshoe from Crystal Springs Sno-Park to Meany Lodge for 
 a hot lunch at the lodge on Saturdays this winter. Routes vary\, typic
 ally 7+ miles round-trip and 550 feet elevation gain. **Please put Die
 tary Restrictions and/or Snowshoe borrow request(s) in Notes when regi
 stering**
CATEGORIES:Winter Trails Day, Meany Lodge
CLASS:PUBLIC
END:VEVENT
BEGIN:VEVENT
DTSTAMP:20260420T005330Z
CREATED:20170915T003449Z
UID:ATEvent-96310e4e0f994a959e0cf4c7258e94b2
LAST-MODIFIED:20171228T205648Z
SUMMARY:Cross-country/Randonnee Ski Trek and Lunch (M) - Meany Lodge
DTSTART:20180113T080000Z
DTEND:20180114T075900Z
DESCRIPTION:3 - 5 miles with 500 ft elevation gain in last mile (appro
 x 2 - 4 hrs depending on route taken) in a guided trek to Meany Lodge.
  A hearty hot lunch will be served at 12:30 PM (make sure to note diet
 ary restrictions when registering).
CATEGORIES:Winter Trails Day, Meany Lodge
CLASS:PUBLIC
END:VEVENT
BEGIN:VEVENT
DTSTAMP:20260420T005330Z
CREATED:20171231T173824Z
UID:ATEvent-1281a6cf48c3428c8958898aa0959c38
LAST-MODIFIED:20180116T031555Z
SUMMARY:Cross-country Ski - Plain Valley Nordic Ski Trails
DTSTART:20180114T080000Z
DTEND:20180115T075900Z
DESCRIPTION:There are 14+ miles of ski trails groomed for skate and cl
 assic cross country that range from easy trips for beginners to more c
 hallenging runs for those with more experience.
CATEGORIES:Winter Trails Day
CLASS:PUBLIC
END:VEVENT
BEGIN:VEVENT
DTSTAMP:20260420T005330Z
CREATED:20171128T232900Z
UID:ATEvent-79b5792a5cf644408d56384be6f0b262
LAST-MODIFIED:20180119T184832Z
SUMMARY:Cross-country Ski - Stampede Pass
DTSTART:20180116T080000Z
DTEND:20180117T075900Z
DESCRIPTION:A demanding N3 ski trip in which we will explore the trail
  to Stampede Pass from Crystal Springs Snopark: 9.5 miles\, 1,200 ft g
 ain
CATEGORIES:Winter Trails Day
CLASS:PUBLIC
END:VEVENT
BEGIN:VEVENT
DTSTAMP:20260420T005330Z
CREATED:20170906T000603Z
UID:ATEvent-36a91561145f4b5e890f16dac079f707
LAST-MODIFIED:20180121T225057Z
SUMMARY:Snowshoe Trek and Lunch (L) - Meany Lodge
DTSTART:20180120T080000Z
DTEND:20180121T075900Z
DESCRIPTION:Snowshoe from Crystal Springs Sno-Park to Meany Lodge for 
 a hot lunch at the lodge on Saturdays this winter. Routes vary\, typic
 ally 7+ miles round-trip and 550 feet elevation gain. **Please put Die
 tary Restrictions and/or Snowshoe borrow request(s) in Notes when regi
 stering**
CATEGORIES:Winter Trails Day, Meany Lodge
CLASS:PUBLIC
END:VEVENT
BEGIN:VEVENT
DTSTAMP:20260420T005330Z
CREATED:20170915T003449Z
UID:ATEvent-c3d1912dbcce4204856eceb7dc2ee47a
LAST-MODIFIED:20180118T015218Z
SUMMARY:Cross-country/Randonnee Ski Trek and Lunch (M) - Meany Lodge
DTSTART:20180120T080000Z
DTEND:20180121T075900Z
DESCRIPTION:3 - 5 miles with 500 ft elevation gain in last mile (appro
 x 2 - 3 hrs) in a guided trek to Meany Lodge. A hearty hot lunch will 
 be served at 12:30 PM (make sure to note dietary restrictions when reg
 istering).
CATEGORIES:Winter Trails Day, Meany Lodge
CLASS:PUBLIC
END:VEVENT
BEGIN:VEVENT
DTSTAMP:20260420T005330Z
CREATED:20171231T174729Z
UID:ATEvent-5ebfeaaec1f94559b862be29719c0e6f
LAST-MODIFIED:20180122T024819Z
SUMMARY:Cross-country Ski - Plain Valley Nordic Ski Trails
DTSTART:20180121T080000Z
DTEND:20180122T075900Z
DESCRIPTION:There are 14+ miles of ski trails groomed for skate and cl
 assic cross country that range from easy trips for beginners to more c
 hallenging runs for those with more experience.
CATEGORIES:Winter Trails Day
CLASS:PUBLIC
END:VEVENT
BEGIN:VEVENT
DTSTAMP:20260420T005330Z
CREATED:20171129T004731Z
UID:ATEvent-7894db3951b34b189eaefe14d335f8ed
LAST-MODIFIED:20180124T031155Z
SUMMARY:Cross-country Ski - Erling Stordahl
DTSTART:20180123T080000Z
DTEND:20180124T075900Z
DESCRIPTION:Explore the Erling Stordahl and Dog Sled Trails from Cryst
 al Springs Snopark
CATEGORIES:Winter Trails Day
CLASS:PUBLIC
END:VEVENT
BEGIN:VEVENT
DTSTAMP:20260420T005330Z
CREATED:20170906T000603Z
UID:ATEvent-3f423373965c48ae935034327aba1766
LAST-MODIFIED:20180128T234841Z
SUMMARY:Snowshoe Trek and Lunch (L) - Meany Lodge
DTSTART:20180127T080000Z
DTEND:20180128T075900Z
DESCRIPTION:Snowshoe from Crystal Springs Sno-Park to Meany Lodge for 
 a hot lunch at the lodge on Saturdays this winter. Routes vary\, typic
 ally 7+ miles round-trip and 550 feet elevation gain. **Please put Die
 tary Restrictions and/or Snowshoe borrow request(s) in Notes when regi
 stering**
CATEGORIES:Winter Trails Day, Meany Lodge
CLASS:PUBLIC
END:VEVENT
BEGIN:VEVENT
DTSTAMP:20260420T005330Z
CREATED:20170915T003449Z
UID:ATEvent-8a86e465c8eb461bb929ffc904e05cae
LAST-MODIFIED:20180118T015227Z
SUMMARY:Cross-country/Randonnee Ski Trek and Lunch (M) - Meany Lodge
DTSTART:20180127T080000Z
DTEND:20180128T075900Z
DESCRIPTION:3 - 5 miles with 500 ft elevation gain in last mile (appro
 x 2 - 3 hrs) in a guided trek to Meany Lodge. A hearty hot lunch will 
 be served at 12:30 PM (make sure to note dietary restrictions when reg
 istering).
CATEGORIES:Winter Trails Day, Meany Lodge
CLASS:PUBLIC
END:VEVENT
BEGIN:VEVENT
DTSTAMP:20260420T005330Z
CREATED:20171023T192247Z
UID:ATEvent-e17424012437416a8d2fd125815a683a
LAST-MODIFIED:20180910T183127Z
SUMMARY:Beginner Snowshoe - Gold Creek Pond Loop
DTSTART:20180128T080000Z
DTEND:20180129T075900Z
DESCRIPTION:Join in on the winter fun!  Beginner family snowshoe with 
 gear provided.
CATEGORIES:Snowshoeing, youth, Family Gateway Programs, Winter Trails Day
CLASS:PUBLIC
END:VEVENT
BEGIN:VEVENT
DTSTAMP:20260420T005330Z
CREATED:20171129T014431Z
UID:ATEvent-3e8a3e75f9304727af2d702760128193
LAST-MODIFIED:20180201T005948Z
SUMMARY:Cross-country Ski - Cabin Creek
DTSTART:20180131T080000Z
DTEND:20180201T075900Z
DESCRIPTION:Explore the groomed Cabin Creek trails including the Vikin
 g Course from the Cabin Creek Snopark\, exit 63 off I-90: 10 miles\, 2
 00 ft gain
CATEGORIES:Winter Trails Day
CLASS:PUBLIC
END:VEVENT
END:VCALENDAR
