BEGIN:VCALENDAR
VERSION:2.0
PRODID:-//Plone.org//NONSGML plone.app.event//EN
X-WR-TIMEZONE:US/Pacific
BEGIN:VEVENT
SUMMARY:FLOW - Fun and Learning on the Water - Makah Bay
DTSTART;VALUE=DATE:20200728
DTEND;VALUE=DATE:20200729
DTSTAMP;VALUE=DATE-TIME:20260425T143612Z
UID:2a9aaebadfba4d24bbf275a6b6d8fc26
CATEGORIES:Sea Kayaking
DESCRIPTION:A two day clinic on tactics of coastal travel
LOCATION:Makah Bay
URL:https://www.mountaineers.org/locations-lodges/seattle-branch/committee
 s/seattle-sea-kayaking-committee/seminars-clinics/flow-fun-and-learning-on
 -the-water-makah-bay
END:VEVENT
END:VCALENDAR
