BEGIN:VCALENDAR
VERSION:2.0
PRODID:-//Plone.org//NONSGML plone.app.event//EN
X-WR-TIMEZONE:US/Pacific
BEGIN:VEVENT
SUMMARY:Street Photography Workshop & Walk - Seattle Waterfront & Downtown
DTSTART;VALUE=DATE:20220416
DTEND;VALUE=DATE:20220417
DTSTAMP;VALUE=DATE-TIME:20260420T093414Z
UID:7e8da954d76d41048f06a7e26cedba0f
CATEGORIES:Photography
DESCRIPTION:The Seattle Waterfront is the perfect place to learn about Str
 eet Photography.
LOCATION:Seattle Waterfront & Downtown
URL:https://www.mountaineers.org/locations-lodges/seattle-branch/committee
 s/seattle-photography-committee/seminars-clinics/street-photography-worksh
 op-walk-seattle-waterfront
END:VEVENT
END:VCALENDAR
