BEGIN:VCALENDAR
VERSION:2.0
PRODID:-//Plone.org//NONSGML plone.app.event//EN
X-WR-TIMEZONE:US/Pacific
BEGIN:VEVENT
SUMMARY:Intro to Wildlife Photography - Seattle - Mountaineers Seattle Pro
 gram Center
DTSTART;VALUE=DATE:20191116
DTEND;VALUE=DATE:20191117
DTSTAMP;VALUE=DATE-TIME:20260423T092316Z
UID:e222ea6589d74e2cb2814284b62df968
CATEGORIES:Photography
DESCRIPTION:Workshop/lecture to learn how to take the best wildlife photog
 raphs
LOCATION:Mountaineers Seattle Program Center
URL:https://www.mountaineers.org/locations-lodges/seattle-branch/committee
 s/seattle-photography-committee/course-templates/intro-to-wildlife-photogr
 aphy-the-mountaineers/activities/intro-to-wildlife-photography-seattle-mou
 ntaineers-seattle-program-center
END:VEVENT
END:VCALENDAR
